BEGIN:VCALENDAR
VERSION:2.0
PRODID:-//Muziekvereniging Servaes - ECPv6.15.20//NONSGML v1.0//EN
CALSCALE:GREGORIAN
METHOD:PUBLISH
X-ORIGINAL-URL:https://muziekverenigingservaes.nl
X-WR-CALDESC:Evenementen voor Muziekvereniging Servaes
REFRESH-INTERVAL;VALUE=DURATION:PT1H
X-Robots-Tag:noindex
X-PUBLISHED-TTL:PT1H
BEGIN:VTIMEZONE
TZID:Europe/Paris
BEGIN:DAYLIGHT
TZOFFSETFROM:+0100
TZOFFSETTO:+0200
TZNAME:CEST
DTSTART:20240331T010000
END:DAYLIGHT
BEGIN:STANDARD
TZOFFSETFROM:+0200
TZOFFSETTO:+0100
TZNAME:CET
DTSTART:20241027T010000
END:STANDARD
BEGIN:DAYLIGHT
TZOFFSETFROM:+0100
TZOFFSETTO:+0200
TZNAME:CEST
DTSTART:20250330T010000
END:DAYLIGHT
BEGIN:STANDARD
TZOFFSETFROM:+0200
TZOFFSETTO:+0100
TZNAME:CET
DTSTART:20251026T010000
END:STANDARD
BEGIN:DAYLIGHT
TZOFFSETFROM:+0100
TZOFFSETTO:+0200
TZNAME:CEST
DTSTART:20260329T010000
END:DAYLIGHT
BEGIN:STANDARD
TZOFFSETFROM:+0200
TZOFFSETTO:+0100
TZNAME:CET
DTSTART:20261025T010000
END:STANDARD
END:VTIMEZONE
BEGIN:VEVENT
DTSTART;TZID=Europe/Paris:20250622T183000
DTEND;TZID=Europe/Paris:20250622T210000
DTSTAMP:20260421T151032
CREATED:20241210T214154Z
LAST-MODIFIED:20241210T214904Z
UID:3717-1750617000-1750626000@muziekverenigingservaes.nl
SUMMARY:Zomeravondconcert 2025
DESCRIPTION:Zomeravondconcert 22 juni 2025\nOp zondag 22 juni sluiten we het seizoen feestelijk af bij de Muziekfabriek. Ben jij benieuwd welke verrassingen onze muzikanten dit jaar voor je in petto hebben? Van bekende klassiekers tot swingende moderne muziek: er is voor ieder wat wils. Onder het genot van een drankje kun je genieten van een gevarieerd programma\, waarbij al onze muzikanten van zich laten horen. \nBij mooi weer is het concert buiten\, voor de Muziekfabriek. \n \n 
URL:https://muziekverenigingservaes.nl/agenda/zomeravondconcert-2025/
LOCATION:De Muziekfabriek\, Abdijstraat 53\, Heeswijk-Dinther\, 5473AC\, Nederland
CATEGORIES:Event
ATTACH;FMTTYPE=image/jpeg:https://muziekverenigingservaes.nl/wp-content/uploads/2024/12/Zomeravondconcert2024_WEB-078.jpg
END:VEVENT
END:VCALENDAR