BEGIN:VCALENDAR
VERSION:2.0
PRODID:-//Muziekvereniging Servaes - ECPv6.15.20//NONSGML v1.0//EN
CALSCALE:GREGORIAN
METHOD:PUBLISH
X-WR-CALNAME:Muziekvereniging Servaes
X-ORIGINAL-URL:https://muziekverenigingservaes.nl
X-WR-CALDESC:Evenementen voor Muziekvereniging Servaes
REFRESH-INTERVAL;VALUE=DURATION:PT1H
X-Robots-Tag:noindex
X-PUBLISHED-TTL:PT1H
BEGIN:VTIMEZONE
TZID:Europe/Paris
BEGIN:DAYLIGHT
TZOFFSETFROM:+0100
TZOFFSETTO:+0200
TZNAME:CEST
DTSTART:20240331T010000
END:DAYLIGHT
BEGIN:STANDARD
TZOFFSETFROM:+0200
TZOFFSETTO:+0100
TZNAME:CET
DTSTART:20241027T010000
END:STANDARD
BEGIN:DAYLIGHT
TZOFFSETFROM:+0100
TZOFFSETTO:+0200
TZNAME:CEST
DTSTART:20250330T010000
END:DAYLIGHT
BEGIN:STANDARD
TZOFFSETFROM:+0200
TZOFFSETTO:+0100
TZNAME:CET
DTSTART:20251026T010000
END:STANDARD
BEGIN:DAYLIGHT
TZOFFSETFROM:+0100
TZOFFSETTO:+0200
TZNAME:CEST
DTSTART:20260329T010000
END:DAYLIGHT
BEGIN:STANDARD
TZOFFSETFROM:+0200
TZOFFSETTO:+0100
TZNAME:CET
DTSTART:20261025T010000
END:STANDARD
END:VTIMEZONE
BEGIN:VEVENT
DTSTART;TZID=Europe/Paris:20250315T190000
DTEND;TZID=Europe/Paris:20250315T190000
DTSTAMP:20260423T152758
CREATED:20241210T215712Z
LAST-MODIFIED:20250312T212320Z
UID:3723-1742065200-1742065200@muziekverenigingservaes.nl
SUMMARY:Uitwisselingsconcert: Dubbele Muzikale Beleving!
DESCRIPTION:Uitwisselingsconcert: Dubbele Muzikale Beleving!\nOp zaterdag 15 maart 2025 staat een bijzonder muzikaal evenement op het programma. Samen met de harmonieorkesten van Eendracht Maakt Macht (EMM) Boekel en Muziekvereniging Meierijstad brengen we een avond vol prachtige muziek met een sprookjesachtig thema. Het publiek kan die avond o.a. genieten van werken als “Pinnochio” (Muziekvereniging Servaes)\, Legende no.4 (EMM Boekel) en Zorro the musical (Muziekvereniging Meierijstad). Het belooft een fantastische muzikale avond te worden\, die u zeker niet mag missen. \nDit unieke evenement begint om 19:00 uur in De Brink in Eerde.
URL:https://muziekverenigingservaes.nl/agenda/uitwisselingsconcert-dubbele-muzikale-beleving/
LOCATION:De Brink\, Eerde\, Sint Antoniusplein\, Veghel\, 5466 PE\, Netherlands
CATEGORIES:Event
ATTACH;FMTTYPE=image/jpeg:https://muziekverenigingservaes.nl/wp-content/uploads/2023/11/PA211063-scaled.jpg
END:VEVENT
END:VCALENDAR